BEGIN:VCALENDAR
VERSION:2.0
PRODID:-//wp-events-plugin.com//7.2.3.1//EN
TZID:Europe/Amsterdam
X-WR-TIMEZONE:Europe/Amsterdam
BEGIN:VEVENT
UID:122@zzpwoerden.nl
DTSTART;TZID=Europe/Amsterdam:20250520T180000
DTEND;TZID=Europe/Amsterdam:20250520T210000
DTSTAMP:20250508T154301Z
URL:https://zzpwoerden.nl/activiteiten/walking-dinner-2025/
SUMMARY:ZOOOM Walking Dinner 2025
DESCRIPTION:Stap met je ZZP-collega’s in een wereld van smaak en connecti
 es tijdens ons ZZP Walking Dinner.\nHet succesnummer van ZOOOM ZZP Woerden
  gaat op herhaling!\n\nMeer informatie\, locatie en tijd volgen.\n\nDe eig
 en bijdrage voor leden voor dit evenement bedraagt € 15\,00.\n\nMeld je 
 nu aan via het aanmeldformulier voor leden ».\nOpgeven kan tot en met 13 
 mei.\n\n\n\nBen jij (nog) geen lid?\nDan ben je ook welkom om ons ZOOOM-ne
 twerk te leren kennen.\nMeld je dan aan via onderstaand formulier. Opgeven
  kan tot en met 13 mei.\nVoor introducees is de eigen bijdrage € 20\,00.
  \n[contact-form-7 id="4562" title="Formulier voor introducés"]\n\n\n\nAa
 nmeldformulier leden\n(Dieetwensen kunnen\, indien van toepassing\, ingevu
 ld worden in het opmerkingenveld)\n\nAangemelde introducees\n\n	Anoniem\n\
 n\n
END:VEVENT
BEGIN:VTIMEZONE
TZID:Europe/Amsterdam
X-LIC-LOCATION:Europe/Amsterdam
BEGIN:DAYLIGHT
DTSTART:20250330T030000
TZOFFSETFROM:+0100
TZOFFSETTO:+0200
TZNAME:CEST
END:DAYLIGHT
END:VTIMEZONE
END:VCALENDAR