BEGIN:VCALENDAR
VERSION:2.0
PRODID:-//wp-events-plugin.com//7.2.3.1//EN
TZID:Europe/Amsterdam
X-WR-TIMEZONE:Europe/Amsterdam
BEGIN:VEVENT
UID:117@zzpwoerden.nl
DTSTART;TZID=Europe/Amsterdam:20250311T190000
DTEND;TZID=Europe/Amsterdam:20250311T220000
DTSTAMP:20250310T191141Z
URL:https://zzpwoerden.nl/activiteiten/praktisch-aan-de-slag-met-social-me
 dia/
SUMMARY:ZOOOM Praktisch aan de slag met Social Media
DESCRIPTION:Online zichtbaarheid is heel belangrijk voor ZZP’ers. Daar zi
 jn we het wel over eens.\nDat neemt niet weg dat we niet allemaal even goe
 d weten hoe\, wanneer en welke kanalen we het beste kunnen inzetten.\nEn h
 oe we deze kanalen op de best mogelijke manier inrichten en gebruiken.\n\n
 Deze avond gaan we met elkaar aan de slag om onze online zichtbaarheid te 
 verbeteren.\nEn we richten ons op LinkedIn\, Facebook en Instagram.\n\nGon
 ne-Marieke Kroon-Lamers van UwOfficemanager.nl gaat bij de start van de av
 ond kort een aantal algemene zaken over de verschillende Social Media-kana
 len vertellen. Zij ondersteunt ondernemers\, onder andere met hun Social M
 edia.\n\nEn daarna gaan we zelf in groepjes aan de start. Aan de hand van 
 een aantal vragen en opdrachten krijg je een hoop tips en tricks. Je kunt 
 handigheidjes leren van de andere deelnemers en Gonne-Marieke blijft aansp
 reekpunt voor vragen.\n\n19.00 uur: Inloop\n19.30 uur: Start activiteit\n2
 1.00 uur: Gelegenheid tot netwerken met een drankje\n\nIs het onderwerp vo
 or jou niet van toepassing\, maar wil je wel graag komen netwerken met een
  drankje?\nDan ben je vanaf 21.00 uur ook welkom. Meld dit dan in het opme
 rkingenveld bij je aanmelding.\n\nMeld je nu aan via het aanmeldformulier 
 voor leden ».\nOpgeven kan tot en met 4 maart.\n\n\n\nBen jij (nog) geen 
 lid?\nDan ben je ook welkom om ons ZOOOM-netwerk te leren kennen.\nMeld je
  dan aan via onderstaand formulier. Opgeven kan tot en met 4 maart.\nVoor 
 introducees is de eigen bijdrage € 20\,00. Besluit je daarna om lid te w
 orden\, dan wordt dit bedrag in mindering gebracht op de contributie-factu
 ur.\n[contact-form-7 id="4562" title="Formulier voor introducés"]\n\n\n\n
 Aanmeldformulier leden\n(Dieetwensen kunnen\, indien van toepassing\, inge
 vuld worden in het opmerkingenveld)\n\n\nAangemelde introducees\n\nInge Wi
 jlacker\nMarijke Hugenholtz\n
END:VEVENT
BEGIN:VTIMEZONE
TZID:Europe/Amsterdam
X-LIC-LOCATION:Europe/Amsterdam
BEGIN:STANDARD
DTSTART:20241027T020000
TZOFFSETFROM:+0200
TZOFFSETTO:+0100
TZNAME:CET
END:STANDARD
END:VTIMEZONE
END:VCALENDAR