BEGIN:VCALENDAR
VERSION:2.0
PRODID:-//wp-events-plugin.com//7.2.3.1//EN
TZID:Europe/Amsterdam
X-WR-TIMEZONE:Europe/Amsterdam
BEGIN:VEVENT
UID:114@zzpwoerden.nl
DTSTART;TZID=Europe/Amsterdam:20250116T190000
DTEND;TZID=Europe/Amsterdam:20250116T210000
DTSTAMP:20250104T150721Z
URL:https://zzpwoerden.nl/activiteiten/nieuwjaarswandeling-2025/
SUMMARY:ZOOOM Nieuwjaarswandeling 2025
DESCRIPTION:Happy New Year! \n\nNa het succes van vorig jaar starten we ook
  dit jaar weer met de Nieuwjaarswandeling &amp\; Netwerkevent.\n\nWanneer:
  Donderdag 16 januari 2025\, vanaf 19 uur\nWaar: Proeftuin\, Van Rossum St
 adshotel Woerden\n\nBegin het nieuwe jaar actief en inspirerend:\n\n 	Star
 t om 19:00: Welkom met een warme drank en een lekkernij.\n 	Wandelen &amp\
 ; Netwerken: Wandel een klein uurtje in kleine groepjes\, deel je doelen e
 n plannen voor het nieuwe jaar\, beantwoord inspirerende vragen en wissel 
 onderweg om nog meer leden te leren kennen en nieuwe ideeën op te doen.\n
  	Afsluiting: We sluiten de avond af met traditionele ‘koek en zopie’.
 \n\nStap 2025 in vol energie en inspiratie door waardevolle gesprekken en 
 nieuwe connecties te combineren met een frisse wandeling!\n\nZet de datum 
 in je agenda\, meld je aan en maak je klaar voor een gezellige avond. (Er 
 is een slecht weer alternatief.)\n\nMeld je nu aan via het aanmeldformulie
 r voor leden ».\nOpgeven kan tot en met 14 januari.\n\n\n\nBen jij (nog) 
 geen lid?\nDan ben je ook welkom om ons ZOOOM-netwerk te leren kennen.\nMe
 ld je dan aan via onderstaand formulier. Opgeven kan tot en met 14 januari
 .\nVoor introducees is de eigen bijdrage € 20\,00. Besluit je daarna om 
 lid te worden\, dan wordt dit bedrag in mindering gebracht op de contribut
 ie-factuur.\n[contact-form-7 id="4562" title="Formulier voor introducés"]
 \n\n\n\nAanmeldformulier leden\n(Dieetwensen kunnen\, indien van toepassin
 g\, ingevuld worden in het opmerkingenveld)
END:VEVENT
BEGIN:VTIMEZONE
TZID:Europe/Amsterdam
X-LIC-LOCATION:Europe/Amsterdam
BEGIN:STANDARD
DTSTART:20241027T020000
TZOFFSETFROM:+0200
TZOFFSETTO:+0100
TZNAME:CET
END:STANDARD
END:VTIMEZONE
END:VCALENDAR