BEGIN:VCALENDAR
VERSION:2.0
PRODID:-//wp-events-plugin.com//7.2.3.1//EN
TZID:Europe/Amsterdam
X-WR-TIMEZONE:Europe/Amsterdam
BEGIN:VEVENT
UID:127@zzpwoerden.nl
DTSTART;TZID=Europe/Amsterdam:20250911T160000
DTEND;TZID=Europe/Amsterdam:20250911T193000
DTSTAMP:20250808T090328Z
URL:https://zzpwoerden.nl/activiteiten/jaarlijkse-zomer-bbq/
SUMMARY:ZOOOM Jaarlijkse zomer-BBQ
DESCRIPTION:Ook dit jaar organiseert ZOOOM weer de Zomer-BBQ.\nEen gelegenh
 eid om bij te praten na de zomervakantie.\n\nDe BBQ vindt plaats op de moo
 ie locatie van De Boerinn\, Mijzijde 6 in Kamerik.\n\nInloop: vanaf 16.00 
 uur\nRond 16.30 uur staat er een borrel klaar en vanaf 17.30 uur gaat de B
 BQ aan.\n\nDe eigen bijdrage voor leden voor dit evenement bedraagt € 20
 \,00.\n\nMeld je nu aan via het aanmeldformulier voor leden ».\nOpgeven k
 an tot en met 4 september.\n\n\n\nBen jij (nog) geen lid?\nDan ben je ook 
 welkom om ons ZOOOM-netwerk te leren kennen.\nMeld je dan aan via ondersta
 and formulier. Opgeven kan tot en met 4 september.\nVoor introducees is de
  eigen bijdrage € 30\,00. Besluit je daarna om lid te worden\, dan wordt
  het verschil in mindering gebracht op de contributie-factuur.\n[contact-f
 orm-7 id="4562" title="Formulier voor introducés"]\n\n\n\nAanmeldformulie
 r leden\n(Dieetwensen kunnen\, indien van toepassing\, ingevuld worden in 
 het opmerkingenveld)
END:VEVENT
BEGIN:VTIMEZONE
TZID:Europe/Amsterdam
X-LIC-LOCATION:Europe/Amsterdam
BEGIN:DAYLIGHT
DTSTART:20250330T030000
TZOFFSETFROM:+0100
TZOFFSETTO:+0200
TZNAME:CEST
END:DAYLIGHT
END:VTIMEZONE
END:VCALENDAR