BEGIN:VCALENDAR
VERSION:2.0
PRODID:-//wp-events-plugin.com//7.2.3.1//EN
TZID:Europe/Amsterdam
X-WR-TIMEZONE:Europe/Amsterdam
BEGIN:VEVENT
UID:135@zzpwoerden.nl
DTSTART;TZID=Europe/Amsterdam:20260115T190000
DTEND;TZID=Europe/Amsterdam:20260115T220000
DTSTAMP:20251223T085959Z
URL:https://zzpwoerden.nl/activiteiten/frisse-start-wandeling-2026/
SUMMARY:ZOOOM Frisse start-wandeling 2026
DESCRIPTION:Happy New Year! \n\nFris van start in 2026 met onze jaarlijkse 
 Nieuwjaarswandeling &amp\; Netwerkevent.\n\nWanneer: Donderdag 15 januari 
 2026\, vanaf 19 uur\nWaar: Stadshotel/Van Rossum\n\nBegin het nieuwe jaar 
 actief en inspirerend:\n\n 	Start om 19:00: Welkom met een warme drank en 
 een lekkernij.\n 	Wandelen &amp\; Netwerken: Wandel een klein uurtje in kl
 eine groepjes\, deel je doelen en plannen voor het nieuwe jaar\, beantwoor
 d inspirerende vragen en wissel onderweg om nog meer leden te leren kennen
  en nieuwe ideeën op te doen.\n 	Afsluiting: We sluiten de avond af met t
 raditionele ‘koek en zopie’.\n\nStap 2026 in vol energie en inspiratie
  door waardevolle gesprekken en nieuwe connecties te combineren met een fr
 isse wandeling!\n\nZet de datum in je agenda\, meld je aan en maak je klaa
 r voor een gezellige avond. (Er is een slecht weer alternatief.)\n\nMeld j
 e nu aan via het aanmeldformulier voor leden ».\nOpgeven kan tot en met 1
 3 januari.\n\n\n\nBen jij (nog) geen lid?\nDan ben je ook welkom om ons ZO
 OOM-netwerk te leren kennen.\nMeld je dan aan via onderstaand formulier. O
 pgeven kan tot en met 13 januari.\nVoor introducees is de eigen bijdrage 
 € 20\,00. Besluit je daarna om lid te worden\, dan wordt dit bedrag in m
 indering gebracht op de contributie-factuur.\n[contact-form-7 id="4562" ti
 tle="Formulier voor introducés"]\n\n\n\nAanmeldformulier leden\n(Dieetwen
 sen kunnen\, indien van toepassing\, ingevuld worden in het opmerkingenvel
 d)
END:VEVENT
BEGIN:VTIMEZONE
TZID:Europe/Amsterdam
X-LIC-LOCATION:Europe/Amsterdam
BEGIN:STANDARD
DTSTART:20251026T020000
TZOFFSETFROM:+0200
TZOFFSETTO:+0100
TZNAME:CET
END:STANDARD
END:VTIMEZONE
END:VCALENDAR