BEGIN:VCALENDAR
VERSION:2.0
PRODID:-//wp-events-plugin.com//7.2.3.1//EN
TZID:Europe/Amsterdam
X-WR-TIMEZONE:Europe/Amsterdam
BEGIN:VEVENT
UID:119@zzpwoerden.nl
DTSTART;TZID=Europe/Amsterdam:20250410T070000
DTEND;TZID=Europe/Amsterdam:20250410T090000
DTSTAMP:20250327T175543Z
URL:https://zzpwoerden.nl/activiteiten/algemene-ledenvergadering-2025/
SUMMARY:ZOOOM Algemene Ledenvergadering 2025
DESCRIPTION:De jaarlijkse Algemene leden-vergadering met een heerlijk ontbi
 jt. Het nuttige wordt met het aangename verenigd. Alle leden die graag wil
 len weten hoe het met de vereniging gaat\, wat de plannen zijn en hun stee
 ntje willen bijdragen door eigen inbreng zijn van harte welkom.\nInloop is
  vanaf 7.00 uur en we starten om 7.30 met de vergadering. De eindtijd is 9
 :00 uur met uitloop naar 9.30 uur.\nWe zien je graag in De Hall\,  Korenmo
 lenlaan 4\, Woerden\n\nAanmelden kan tot en met 7 april.\nMeld je nu aan v
 ia het aanmeldformulier voor leden ».\n\n\n\nBen jij (nog) geen lid?\nDan
  ben je ook welkom om ons ZOOOM-netwerk te leren kennen.\nMeld je dan aan 
 via onderstaand formulier. \nVoor introducees is de eigen bijdrage € 20\
 ,00. Besluit je daarna om lid te worden\, dan wordt dit bedrag in minderin
 g gebracht op de contributie-factuur.\n[contact-form-7 id="4562" title="Fo
 rmulier voor introducés"]\n\n\n\nAanmeldformulier leden\n(Dieetwensen kun
 nen\, indien van toepassing\, ingevuld worden in het opmerkingenveld)
END:VEVENT
BEGIN:VTIMEZONE
TZID:Europe/Amsterdam
X-LIC-LOCATION:Europe/Amsterdam
BEGIN:DAYLIGHT
DTSTART:20250330T030000
TZOFFSETFROM:+0100
TZOFFSETTO:+0200
TZNAME:CEST
END:DAYLIGHT
END:VTIMEZONE
END:VCALENDAR